{"text_format":"1","workbook":"xlsx","n_sheets":3,"sheets":["Normal oversigt","Detaljeret oversigt","Beregninger"],"not_rendered":{"charts":0,"images":1,"macros":1,"external_links":0,"defined_names":2,"comments":3,"pivot_tables":0},"unopened":[],"bounds":{"document_bytes":16777216,"sheet_cells":100000,"rows_first":2000,"rows_last":500,"rows_between":2000,"halvings":0,"cell_chars":16384,"cell_head_chars":4096},"cells_cut":0,"cells_raw":0,"read":"whole","date_system":"1900"}

{"sheet":"Normal oversigt","index":0,"n_rows":53,"n_cols":8,"rows_kept":53,"cut":false,"hidden":false,"merged":[[18,0,18,3],[18,4,18,5],[18,6,18,7],[16,4,16,5],[16,6,16,7],[17,0,17,3],[17,4,17,5],[17,6,17,7],[19,0,19,3],[19,4,19,5],[19,6,19,7],[20,0,20,3],[20,4,20,5],[20,6,20,7],[21,0,21,3],[21,4,21,5],[21,6,21,7],[22,0,22,3],[22,4,22,5],[22,6,22,7],[23,0,23,3],[23,4,23,5],[23,6,23,7],[24,0,24,3],[24,4,24,5],[24,6,24,7],[25,0,25,3],[25,4,25,5],[25,6,25,7],[26,0,26,3],[26,4,26,5],[26,6,26,7],[27,2,27,3],[27,4,27,5],[27,6,27,7],[28,2,28,5],[28,6,28,7],[35,5,35,7],[36,5,36,7],[29,0,29,4],[30,0,30,4],[31,0,31,4],[32,0,32,4],[34,0,34,4],[36,0,36,4],[33,5,33,7],[33,0,33,4],[35,0,35,4],[29,5,29,7],[30,5,30,7],[31,5,31,7],[32,5,32,7],[34,5,34,7]]}
[]
[]
[]
[]
[]
["År"]
["Elev type:"]
["Ferietillæg",{"$f":"'Detaljeret oversigt'!B8","v":0.125}]
["Forsikring per elev",4600,"kr/år"]
["Befordringsgodtgørelse",250,"kr/uge*",null,"Antal uger praktik",null,{"$f":"Beregninger!C32","v":16},"Uger"]
["Udgifter Skolehjem",500,"kr/uge",null,"Antal uger skole",null,{"$f":"Beregninger!C36","v":20},"Uger"]
["Refusion Skolehjem",500,"kr/uge",null,"Pension",null,{"$f":"Beregninger!C34","v":0}]
["Løntilskud (over 25 år)",0,"kr/time**",null,"Refusion i skole per.",null,{"$f":"Beregninger!C37","v":2560},"kr/uge"]
[]
[]
[]
[null,null,null,null,"Refusion/tilskud",null,"Udgifter"]
["Lønudgift praktik og skole periode",null,null,null,null,null,{"$f":"(Beregninger!C32+Beregninger!C36)*Beregninger!C33","v":91872}]
["Ferietillæg",null,null,null,null,null,{"$f":"G18*B8","v":11484}]
["Pension",null,null,null,null,null,{"$f":"G18*Beregninger!C34","v":0}]
["Refusion for skole periode",null,null,null,{"$f":"Beregninger!C36*Beregninger!C37","v":51200}]
["Forsikring",null,null,null,null,null,{"$f":"B9","v":4600}]
["Udgifter skolehjem",null,null,null,null,null,{"$f":"Beregninger!C36*B11","v":10000}]
["Refusion skolehjem",null,null,null,{"$f":"Beregninger!C36*B12","v":10000}]
["Løntilskud for vokse over 25 år EUV 2 og 3 elever",null,null,null,{"$f":"B13*Beregninger!C32*37","v":0}]
["Befordringsgodtgørelse",null,null,null,null,null,{"$f":"B10*Beregninger!C36","v":5000}]
["Bogpakke",null,null,null,null,null,{"$f":"VLOOKUP(Beregninger!B3,Beregninger!A5:L28,12, FALSE)","v":0}]
[null,null,"I alt kr.:",null,{"$f":"SUM(E18:F27)","v":61200},null,{"$f":"SUM(G18:H27)","v":122956}]
[null,null,"Periodens udgift",null,null,null,{"$f":"G28-E28","v":61756}]
["Gennemsnitlig udgift per måned fordelt på praktik perioden alt inkl.",null,null,null,null,{"$f":"IF(((G29/Beregninger!C32)*(52/12))>50000,0,((G29/Beregninger!C32)*(52/12)))","v":16725.583333333332}]
["Gennemsnitlig udgift per time fordelt på praktik perioden alt inkl.",null,null,null,null,{"$f":"F30/160.3333","v":104.31758925521605}]
["Månedlige udgift skole",null,null,null,null,{"$f":"(F33/Beregninger!C36)*(52/12)","v":2431}]
["Total udgift i skoletid minus refusion",null,null,null,null,{"$f":"(((G18+G19+G20)/(Beregninger!C32+Beregninger!C36))*Beregninger!C36)-E21+G26+G27","v":11220}]
["Timevis udgift skole",null,null,null,null,{"$f":"F32/160.3333","v":15.162165314379482}]
["Månedlige udgifter praktik uden skoleomkostninger",null,null,null,null,{"$f":"IF(((F37/Beregninger!C32)*(52/12))>50000,0,((F37/Beregninger!C32)*(52/12)))","v":13686.833333333332}]
["Timevis udgift praktik uden skoleomkostninger",null,null,null,null,{"$f":"F35/160.3333","v":85.364882612241701}]
["Total udgift praktiktid minus løntilskud",null,null,null,null,{"$f":"(((G18+G19+G20)/(Beregninger!C32+Beregninger!C36))*Beregninger!C32)-E25+G22","v":50536}]
[]
[]
["Forudsætninger:"]
["*Befordringsgodtgørelse 80% af billigste offentlig transport refunderet estimat"]
["AUB refusion er beregnet med 2018 tal for alle år."]
["Ugeløn og pension under skole og praktik ophold er beregnet for hele året selvom dette reguleres pr. 1. marts"]
["Krav til forsikring iht overenskomst"]
["EUV - ErhvervsUddannelse for Voksne. "]
["**Voksne der er fyldt 25 år, og indgår under reglerne for voksne, der tager en erhvervsuddannelse"]
["løntilskud forklaring","40 kr med anden baggrund i hele praktik perioden"]
[null,"30 kr i op til de første 2 år af praktik perioden"]
["Ny mesterlære eleven er det første uddannelsesår i praktik"]
["Skurpenge:"]
["Hvis forsvarligt skur- eller opholdsrum ikke anvises, ydes et dagligt beløb på 50,55 kr."]
["regnet fra den lønningsuge hvor kravet stilles."]
["Pr. 1. marts 2018 udgør satsen 53,02 kr. og pr. 1. marts 2019 er satsen 53,02 kr."]

{"sheet":"Detaljeret oversigt","index":1,"n_rows":46,"n_cols":8,"rows_kept":46,"cut":false,"hidden":false,"merged":[[17,0,17,3],[20,0,20,3],[21,0,21,3],[22,0,22,3],[23,0,23,3],[18,0,18,3],[19,0,19,3],[32,6,32,7],[30,6,30,7],[32,2,32,5],[27,2,27,3],[27,6,27,7],[27,4,27,5],[28,2,28,5],[30,2,30,5],[33,6,33,7],[33,2,33,5],[31,2,31,5],[16,4,16,5],[16,6,16,7],[17,4,17,5],[17,6,17,7],[31,6,31,7],[23,4,23,5],[20,6,20,7],[21,6,21,7],[22,6,22,7],[26,6,26,7],[23,6,23,7],[26,4,26,5],[22,4,22,5],[18,4,18,5],[19,4,19,5],[18,6,18,7],[19,6,19,7],[29,2,29,5],[29,6,29,7],[24,6,24,7],[25,4,25,5],[25,6,25,7],[20,4,20,5],[21,4,21,5],[28,6,28,7],[24,0,24,3],[25,0,25,3],[26,0,26,3],[24,4,24,5]]}
[]
[]
[]
[]
[]
["År"]
["Elev type:"]
["Ferietillæg",0.125]
["Forsikring per elev",4600,"kr/år"]
["Befordringsgodtgørelse",250,"kr/uge*",null,"Antal uger praktik",null,{"$f":"Beregninger!C32","v":16},"Uger"]
["Udgifter Skolehjem",500,"kr/uge",null,"Antal uger skole",null,{"$f":"Beregninger!C36","v":20},"Uger"]
["Refusion Skolehjem",500,"kr/uge",null,"Pension",null,{"$f":"Beregninger!C34","v":0}]
["Løntilskud (over 25 år)",0,"kr/time**",null,"Refusion i skole per.",null,{"$f":"Beregninger!C37","v":2560},"kr/uge"]
[]
[]
[]
[null,null,null,null,"Refusion/tilskud",null,"Udgifter"]
["Lønudgift praktik og skole periode",null,null,null,null,null,{"$f":"(Beregninger!C32+Beregninger!C36)*Beregninger!C33","v":91872}]
["Ferietillæg",null,null,null,null,null,{"$f":"G18*B8","v":11484}]
["Pension",null,null,null,null,null,{"$f":"G18*Beregninger!C34","v":0}]
["Refusion for skole periode",null,null,null,{"$f":"Beregninger!C36*Beregninger!C37","v":51200}]
["Forsikring",null,null,null,null,null,{"$f":"B9","v":4600}]
["Udgifter skolehjem",null,null,null,null,null,{"$f":"Beregninger!C36*'Detaljeret oversigt'!B11","v":10000}]
["Refusion skolehjem",null,null,null,{"$f":"Beregninger!C36*'Detaljeret oversigt'!B12","v":10000}]
["Løntilskud for vokse over 25 år EUV 2 og 3 elever",null,null,null,{"$f":"'Detaljeret oversigt'!B13*Beregninger!C32*37","v":0}]
["Befordringsgodtgørelse",null,null,null,null,null,{"$f":"B10*Beregninger!C36","v":5000}]
["Bogpakke",null,null,null,null,null,{"$f":"VLOOKUP(Beregninger!B3,Beregninger!A5:L28,12, FALSE)","v":0}]
[null,null,"I alt kr.:",null,{"$f":"SUM(E18:F27)","v":61200},null,{"$f":"SUM(G18:H27)","v":122956}]
[null,null,"Periodens udgift",null,null,null,{"$f":"G28-E28","v":61756}]
[null,null,"Gennemsnitlig udgift per mnd. Praktik",null,null,null,{"$f":"IF(((G29/Beregninger!C32)*(52/12))>50000,0,((G29/Beregninger!C32)*(52/12)))","v":16725.583333333332}]
[null,null,"Mnd. udgift skole",null,null,null,{"$f":"(G32/Beregninger!C36)*(52/12)","v":2431}]
[null,null,"Total udgift i skoletid minus refusion",null,null,null,{"$f":"(((G18+G19+G20)/(Beregninger!C32+Beregninger!C36))*Beregninger!C36)-E21+G26+G27","v":11220}]
[null,null,"Mnd. udgift praktik",null,null,null,{"$f":"IF(((G34/Beregninger!C32)*(52/12))>50000,0,((G34/Beregninger!C32)*(52/12)))","v":13686.833333333332}]
[null,null,"Total udgift praktiktid minus løntilskud",null,null,null,{"$f":"(((G18+G19+G20)/(Beregninger!C32+Beregninger!C36))*Beregninger!C32)-E25+G22","v":50536}]
[]
[]
["Forudsætninger:"]
["*Befordringsgodtgørelse 80% af billigste offentlig transport refunderet estimat"]
["AUB refusion er beregnet med 2018 tal for alle år."]
["Ugeløn og pension under skole og praktik ophold er beregnet for hele året selvom dette regulere pr 1. marts"]
["krav til forsikring iht overenskomst"]
["EUV - ErhvervsUddannelse for Voksne. "]
["**Voksne der er fyldt 25 år, og indgår under reglerne for voksne, der tager en erhvervsuddannelse"]
["løntilskud forklaring","40 kr med anden baggrund i hele praktik perioden"]
[null,"30 kr i op til de første 2 år af praktik perioden"]
["Ny mesterlære eleven er det første uddannelsesår i praktik"]

{"sheet":"Beregninger","index":2,"n_rows":37,"n_cols":12,"rows_kept":37,"cut":false,"hidden":false,"merged":[]}
[]
[]
[null,1]
[null,"Elev type","Varighed praktik (uger)","varighed skole (uger)","AUB refusion skoletid (kr/uge)","Pension 2017","Pension 2018","Pension 2019","Løn 2017 (uge)","Løn 2018 (uge)","Løn 2019 (uge)","Bogpakke (kr/elev/uddannelse)"]
[1,"Under 20  år, 1. uddannelsesår med uddannelsesaftale",16,20,2560,0,0,0,2552,2552,2552,0]
[2,"Under 20 år, 2. uddannelsesår",45,7,2840,0,0,0,2950,2950,2950,998]
[3,"Under 20 år, 3. år uddannelsesår",44,8,3200,0,0,0,3523,3523,3523,0]
[4,"Under 20 år, 4. år uddannelsesår",31,21,3760,0,0,0,4237,4237,4237,0]
[5,"Mellem 20 og 25 år, 1. uddannelsesår med uddannelsesaftale",16,20,2560,1.7000000000000001E-2,3.4000000000000002E-2,5.0999999999999997E-2,2552,2552,2552,0]
[6,"Mellem 20 og 25 år, 2. uddannelsesår",45,7,2840,1.7000000000000001E-2,3.4000000000000002E-2,5.0999999999999997E-2,2950,2950,2950,998]
[7,"Mellem 20 og 25 år, 3. uddannelsesår",44,8,3200,1.7000000000000001E-2,3.4000000000000002E-2,5.0999999999999997E-2,3523,3523,3523,0]
[8,"Mellem 20 og 25 år, 4. uddannelsesår",31,21,3760,1.7000000000000001E-2,3.4000000000000002E-2,5.0999999999999997E-2,4237,4237,4237,0]
[9,"Over 25 år  EUV 1 (>24 mrd. erhvervserfaring) kun hovedforløb",0.01,32,5100,1.7000000000000001E-2,3.4000000000000002E-2,5.0999999999999997E-2,5114,5206,5299,998]
[10,"Over 25 år EUV 2 (<24 mrd. erhvervserfaring) uden grundforløb",36,16,5100,1.7000000000000001E-2,3.4000000000000002E-2,5.0999999999999997E-2,5114,5206,5299,998]
[11,"Over 25 år EUV 2 (<24 mrd. erhvervserfaring) med grundforløb",35,17,5100,1.7000000000000001E-2,3.4000000000000002E-2,5.0999999999999997E-2,5114,5206,5299,998]
[12,"Over 25 år EUV 3 (0 mrd. erhvervserfaring) uden grundforløb 3,5 år",41,11,5100,1.7000000000000001E-2,3.4000000000000002E-2,5.0999999999999997E-2,5114,5206,5299,998]
[13,"Over 25 år EUV 3 (0 mrd. erhvervserfaring) med grundforløb 3,5 år",35,17,5100,1.7000000000000001E-2,3.4000000000000002E-2,5.0999999999999997E-2,5114,5206,5299,998]
[14,"Ny mesterlære. Under 20 år 3,5 år, 1 og 2. uddannelsesår",50,2,2700,0,0,0,2751,2751,2751,998]
[15,"Ny mesterlære. Under 20 år 3,5 år, 2. og 3. uddannelsesår",45,7,3020,0,0,0,3237,3237,3237,0]
[16,"Ny mesterlære. Under 20 år 3,5 år, 3. og 4. uddannelsesår",44,8,3480,0,0,0,3880,3880,3880,0]
[17,"Ny mesterlære. Under 20 år 3,5 år, 4. uddannelsesår",31,21,3760,0,0,0,4237,4237,4237,0]
[18,"Ny mesterlære. Mellem 20 og 25 år 3,5 år, 1 og 2. uddannelsesår",50,2,2700,1.7000000000000001E-2,3.4000000000000002E-2,5.0999999999999997E-2,2751,2751,2751,998]
[19,"Ny mesterlære. Mellem 20 og 25 år 3,5 år, 2 og 3. uddannelsesår",45,7,3020,1.7000000000000001E-2,3.4000000000000002E-2,5.0999999999999997E-2,3237,3237,3237,0]
[20,"Ny mesterlære. Mellem 20 og 25 år 3,5 år, 3. og 4. uddannelsesår",44,8,3480,1.7000000000000001E-2,3.4000000000000002E-2,5.0999999999999997E-2,3880,3880,3880,0]
[21,"Ny mesterlære. Mellem 20 og 25 år 3,5 år, 4. uddannelsesår",31,21,3760,1.7000000000000001E-2,3.4000000000000002E-2,5.0999999999999997E-2,4237,4237,4237,0]
[22,"Ny mesterlære. Over 25 år EUV 2 (<24 mrd. erhvervserfaring) ",36,16,5100,1.7000000000000001E-2,3.4000000000000002E-2,5.0999999999999997E-2,5114,5206,5299,998]
[23,"Ny mesterlære. Over 25 år EUV 3 (0 mrd. erhvervserfaring) 3,5 år",41,11,5100,1.7000000000000001E-2,3.4000000000000002E-2,5.0999999999999997E-2,5114,5206,5299,998]
[24]
[25]
[]
[]
[null,"Valgt varighed praktik",{"$f":"VLOOKUP(Beregninger!B3,Beregninger!A5:L29,3, FALSE)","v":16},null,null,2]
[null,"valgt løn",{"$f":"VLOOKUP(Beregninger!B3,Beregninger!A5:L29,(8+F32), FALSE)","v":2552},null,null,"År"]
[null,"valgt pension",{"$f":"VLOOKUP(Beregninger!B3,Beregninger!A5:L29,(5+F32), FALSE)","v":0},null,1,2017]
[null,"Ferietillæg",{"$f":"'Detaljeret oversigt'!B8","v":0.125},null,2,2018]
[null,"Valgt varighed skole",{"$f":"VLOOKUP(Beregninger!B3,Beregninger!A5:L29,4, FALSE)","v":20},null,3,2019]
[null,"Valgt varighed AUB refusion skoletid",{"$f":"VLOOKUP(Beregninger!B3,Beregninger!A5:L29,5, FALSE)","v":2560}]